BEGIN:VCALENDAR
VERSION:2.0
METHOD:PUBLISH
BEGIN:VEVENT
DTSTART:20260628T140000Z
DTEND:20260628T170000Z
LOCATION:Education Bookings
UID:20260422T232801Z@mysite.com
DTSTAMP:20260422T232801Z
SUMMARY:06 - Living with Art: Scratch Painting
DESCRIPTION:For details, visit https://mcmichael.com/Selection.aspx?sch=31424
PRIORITY:5
CLASS:PUBLIC
END:VEVENT
END:VCALENDAR