BEGIN:VCALENDAR
VERSION:2.0
METHOD:PUBLISH
BEGIN:VEVENT
DTSTART:20260524T140000Z
DTEND:20260524T170000Z
LOCATION:Education Bookings
UID:20260422T232810Z@mysite.com
DTSTAMP:20260422T232810Z
SUMMARY:04 - Living with Art: Prints, Prints, Prints
DESCRIPTION:For details, visit https://mcmichael.com/Selection.aspx?sch=31422
PRIORITY:5
CLASS:PUBLIC
END:VEVENT
END:VCALENDAR