BEGIN:VCALENDAR
VERSION:2.0
METHOD:PUBLISH
BEGIN:VEVENT
DTSTART:20260426T140000Z
DTEND:20260426T170000Z
LOCATION:Education Bookings
UID:20260422T141316Z@mysite.com
DTSTAMP:20260422T141316Z
SUMMARY:02 - Living with Art: Clay Works
DESCRIPTION:For details, visit https://mcmichael.com/Selection.aspx?sch=31420
PRIORITY:5
CLASS:PUBLIC
END:VEVENT
END:VCALENDAR